BEGIN:VCALENDAR
VERSION:2.0
PRODID:-//Eventin//Event Calendar//EN
CALSCALE:GREGORIAN
METHOD:PUBLISH
BEGIN:VEVENT
UID:7b923c670c71d8b2c7388aa534402860@greaterstjames.org
SUMMARY:Bible Study
DESCRIPTION:Bible Study: 667-770-1424 Access Code: 657944#\nJoin Bible S
 tudy Now
LOCATION:Online
DTSTAMP:20260420T094613Z
DTSTART:20260603T220000Z
DTEND:20260603T230000Z
END:VEVENT
END:VCALENDAR
