BEGIN:VCALENDAR
VERSION:2.0
PRODID:-//Eventin//Event Calendar//EN
CALSCALE:GREGORIAN
METHOD:PUBLISH
BEGIN:VEVENT
UID:b21de8b70c34061c1286128e93952019@greaterstjames.org
SUMMARY:Bible Study
DESCRIPTION:Bible Study: 667-770-1424 Access Code: 657944#\nJoin Bible S
 tudy Now
LOCATION:Online
DTSTAMP:20260422T101135Z
DTSTART:20260513T220000Z
DTEND:20260513T230000Z
END:VEVENT
END:VCALENDAR
