BEGIN:VCALENDAR
VERSION:2.0
PRODID:-//Eventin//Event Calendar//EN
CALSCALE:GREGORIAN
METHOD:PUBLISH
BEGIN:VEVENT
UID:52f178bf71d69a328901a8531ea4ee35@greaterstjames.org
SUMMARY:Church School
DESCRIPTION:
LOCATION:Online
DTSTAMP:20260424T082039Z
DTSTART:20260614T130000Z
DTEND:20260614T134500Z
END:VEVENT
END:VCALENDAR
