BEGIN:VCALENDAR
VERSION:2.0
PRODID:-//Eventin//Event Calendar//EN
CALSCALE:GREGORIAN
METHOD:PUBLISH
BEGIN:VEVENT
UID:d21ca8030d89c19ca0f91d53bc44e9e9@greaterstjames.org
SUMMARY:Church School
DESCRIPTION:
LOCATION:Online
DTSTAMP:20260420T100853Z
DTSTART:20260524T130000Z
DTEND:20260524T134500Z
END:VEVENT
END:VCALENDAR
