BEGIN:VCALENDAR
VERSION:2.0
PRODID:-//Eventin//Event Calendar//EN
CALSCALE:GREGORIAN
METHOD:PUBLISH
BEGIN:VEVENT
UID:781f7cb29fc4b629ea542e676bc6d121@greaterstjames.org
SUMMARY:Church School
DESCRIPTION:
LOCATION:Online
DTSTAMP:20260422T100844Z
DTSTART:20260426T130000Z
DTEND:20260426T134500Z
END:VEVENT
END:VCALENDAR
